BEGIN:VCALENDAR
VERSION:2.0
PRODID:-//Center for Environmental Farming Systems - ECPv6.15.20//NONSGML v1.0//EN
CALSCALE:GREGORIAN
METHOD:PUBLISH
X-WR-CALNAME:Center for Environmental Farming Systems
X-ORIGINAL-URL:https://cefs.ncsu.edu
X-WR-CALDESC:Events for Center for Environmental Farming Systems
REFRESH-INTERVAL;VALUE=DURATION:PT1H
X-Robots-Tag:noindex
X-PUBLISHED-TTL:PT1H
BEGIN:VTIMEZONE
TZID:America/New_York
BEGIN:DAYLIGHT
TZOFFSETFROM:-0500
TZOFFSETTO:-0400
TZNAME:EDT
DTSTART:20250309T070000
END:DAYLIGHT
BEGIN:STANDARD
TZOFFSETFROM:-0400
TZOFFSETTO:-0500
TZNAME:EST
DTSTART:20251102T060000
END:STANDARD
BEGIN:DAYLIGHT
TZOFFSETFROM:-0500
TZOFFSETTO:-0400
TZNAME:EDT
DTSTART:20260308T070000
END:DAYLIGHT
BEGIN:STANDARD
TZOFFSETFROM:-0400
TZOFFSETTO:-0500
TZNAME:EST
DTSTART:20261101T060000
END:STANDARD
BEGIN:DAYLIGHT
TZOFFSETFROM:-0500
TZOFFSETTO:-0400
TZNAME:EDT
DTSTART:20270314T070000
END:DAYLIGHT
BEGIN:STANDARD
TZOFFSETFROM:-0400
TZOFFSETTO:-0500
TZNAME:EST
DTSTART:20271107T060000
END:STANDARD
END:VTIMEZONE
BEGIN:VEVENT
DTSTART;TZID=America/New_York:20260430T083000
DTEND;TZID=America/New_York:20260430T163000
DTSTAMP:20260422T143108
CREATED:20260120T144644Z
LAST-MODIFIED:20260413T160931Z
UID:10000702-1777537800-1777566600@cefs.ncsu.edu
SUMMARY:Road Ready: Food Truck Fundamentals
DESCRIPTION:New DATE! April 30th! Free\, one-day event! \nGet ready to roll into the world of food trucks and learn the secrets of success at Road Ready: Food Truck Fundamentals! \n\n\n\nReady to put your food truck dreams in gear? On April 30th you’ll have the opportunity to meet with the experts who can help you get real and get on the road safely\, legally and profitably. Don’t miss this chance for the tools\, resources and connections you need to build a strong business foundation for food adventuring! \n 
URL:https://cefs.ncsu.edu/event/road-ready-food-truck-fundamentals/
LOCATION:CCCTI Watauga Campus\, Watauga Campus\, 460 Community College Drive\, PO Box 3318\, Boone\, NC\, 28607\, United States
CATEGORIES:CEFS,EMFS,Workshops and Educational Programs
ATTACH;FMTTYPE=image/png:https://cefs.ncsu.edu/wp-content/uploads/Past-Food-Truck-Boot-Camp-Photo_resized.png
ORGANIZER;CN="Laura Lauffer - North Carolina Agricultural and Technical State University & Center for Environmental Farming Systems North Carolina Growing Together Project":MAILTO:lwlauffe@ncsu.edu
END:VEVENT
BEGIN:VEVENT
DTSTART;TZID=America/New_York:20260430T173000
DTEND;TZID=America/New_York:20260430T190000
DTSTAMP:20260422T143108
CREATED:20260309T151600Z
LAST-MODIFIED:20260414T153803Z
UID:10000710-1777570200-1777575600@cefs.ncsu.edu
SUMMARY:Twilight Farms Tours: Mighty Gnome Market Garden
DESCRIPTION:Twilight Farms Tours\nJoin EMFS\, and the Haywood Community College Small Business Center as we meet two Haywood farmers with Unique Market and Production Practices. \nPlease note that farm tours are open only to owners of currently operating farms. Space is limited\, and pre-registration is required. \n  \n____________________________________________________________________________________________________\nMighty Gnome Market Garden\nThis farm plans its CSA from the ground up—literally. A detailed crop plan guides planting schedules and quantities to keep shares balanced and consistent. By coordinating with a local Food Hub\, they find markets for surplus produce\, reducing waste and strengthening their farm’s overall profitability. Attendees will be introduced to record keeping and crop planning practices\, improving market planning and decision-making for increased profits. \nDETAILS\n\nThe farm tour of Mighty Gnome Market Garden takes place 5:30 to 7:00 PM.\nThere is no charge for the farm visit.\nLimited space; register early!\n\nSpecial Note: The address will be shared with you once you register.
URL:https://cefs.ncsu.edu/event/twilight-farms-tours-mighty-gnome-market-garden/
CATEGORIES:CEFS,EMFS
ATTACH;FMTTYPE=image/png:https://cefs.ncsu.edu/wp-content/uploads/Mighty-Gnome-resized-1.png
END:VEVENT
END:VCALENDAR