BEGIN:VCALENDAR
VERSION:2.0
PRODID:-//Center for Environmental Farming Systems - ECPv6.15.20//NONSGML v1.0//EN
CALSCALE:GREGORIAN
METHOD:PUBLISH
X-WR-CALNAME:Center for Environmental Farming Systems
X-ORIGINAL-URL:https://cefs.ncsu.edu
X-WR-CALDESC:Events for Center for Environmental Farming Systems
REFRESH-INTERVAL;VALUE=DURATION:PT1H
X-Robots-Tag:noindex
X-PUBLISHED-TTL:PT1H
BEGIN:VTIMEZONE
TZID:America/New_York
BEGIN:DAYLIGHT
TZOFFSETFROM:-0500
TZOFFSETTO:-0400
TZNAME:EDT
DTSTART:20250309T070000
END:DAYLIGHT
BEGIN:STANDARD
TZOFFSETFROM:-0400
TZOFFSETTO:-0500
TZNAME:EST
DTSTART:20251102T060000
END:STANDARD
BEGIN:DAYLIGHT
TZOFFSETFROM:-0500
TZOFFSETTO:-0400
TZNAME:EDT
DTSTART:20260308T070000
END:DAYLIGHT
BEGIN:STANDARD
TZOFFSETFROM:-0400
TZOFFSETTO:-0500
TZNAME:EST
DTSTART:20261101T060000
END:STANDARD
BEGIN:DAYLIGHT
TZOFFSETFROM:-0500
TZOFFSETTO:-0400
TZNAME:EDT
DTSTART:20270314T070000
END:DAYLIGHT
BEGIN:STANDARD
TZOFFSETFROM:-0400
TZOFFSETTO:-0500
TZNAME:EST
DTSTART:20271107T060000
END:STANDARD
END:VTIMEZONE
BEGIN:VEVENT
DTSTART;TZID=America/New_York:20260603T130000
DTEND;TZID=America/New_York:20260603T140000
DTSTAMP:20260419T110624
CREATED:20260408T151854Z
LAST-MODIFIED:20260408T151854Z
UID:10000724-1780491600-1780495200@cefs.ncsu.edu
SUMMARY:Food Labeling: Navigating Your Food Business Series
DESCRIPTION:Food Labeling: Navigating Your Food Business Series\nWednesday | Jun 03 | 1:00 PM — 2:15 PM\nJoin Kate Nicholas with NC State Extension Food Safety on this webinar on best practices for food labeling for food entrepreneurs and existing food businesses. The session will conclude with a Q&A with the Extension Team. \nRegister for this live Zoom webinar using the link below!\nhttps://ncsu.zoom.us/meeting/register/ssH0kW11TrGhou3doKM-5w
URL:https://cefs.ncsu.edu/event/navigating-your-food-business-8/
LOCATION:NC
CATEGORIES:CEFS,EMFS,Seasons of Sustainable Agriculture Workshop Series,Workshops,Workshops and Educational Programs
ATTACH;FMTTYPE=image/png:https://cefs.ncsu.edu/wp-content/uploads/EMFS-series.png
ORGANIZER;CN="Laura Lauffer - North Carolina Agricultural and Technical State University & Center for Environmental Farming Systems North Carolina Growing Together Project":MAILTO:lwlauffe@ncsu.edu
END:VEVENT
BEGIN:VEVENT
DTSTART;TZID=America/New_York:20260603T180000
DTEND;TZID=America/New_York:20260603T190000
DTSTAMP:20260419T110624
CREATED:20260408T152335Z
LAST-MODIFIED:20260408T152335Z
UID:10000725-1780509600-1780513200@cefs.ncsu.edu
SUMMARY:Food Labeling: Navigating Your Food Business Series
DESCRIPTION:Food Labeling: Navigating Your Food Business Series\nWednesday | Jun 03 | 6:00 PM — 7:15 PM\nJoin Kate Nicholas with NC State Extension Food Safety on this webinar on best practices for food labeling for food entrepreneurs and existing food businesses. The session will conclude with a Q&A with the Extension Team. \nRegister for this live Zoom webinar using the link below!\nhttps://ncsu.zoom.us/meeting/register/YPLkeWcwTu6agzytNZYEzw
URL:https://cefs.ncsu.edu/event/navigating-your-food-business-9/
LOCATION:NC
CATEGORIES:CEFS,EMFS,Seasons of Sustainable Agriculture Workshop Series,Workshops,Workshops and Educational Programs
ATTACH;FMTTYPE=image/png:https://cefs.ncsu.edu/wp-content/uploads/EMFS-series.png
ORGANIZER;CN="Laura Lauffer - North Carolina Agricultural and Technical State University & Center for Environmental Farming Systems North Carolina Growing Together Project":MAILTO:lwlauffe@ncsu.edu
END:VEVENT
BEGIN:VEVENT
DTSTART;TZID=America/New_York:20260609T120000
DTEND;TZID=America/New_York:20260609T130000
DTSTAMP:20260419T110624
CREATED:20260410T200359Z
LAST-MODIFIED:20260410T203902Z
UID:10000735-1781006400-1781010000@cefs.ncsu.edu
SUMMARY:Lunch and Learn: Companion Planting and Cover Crops
DESCRIPTION:Join CEFS and N.C. Cooperative Extension for the Lunch & Learn Webinar Series for 2026. \nMelissa Bell\, CEFS Field Research\, Education\, and Outreach Liaison\, will discuss how companion planting helps you harness natural processes to build a healthier farm or garden.  Placing plants strategically can boost pollination\, suppress weeds\, and improve soil fertility. This session provides practical\, research-informed guidance on which pairings work best and which to avoid based on soil\, sunlight\, and season. You will also learn about the benefits of using cover crops in your farm or garden and learn about planting rates based on any scale. Rethink your farm or garden layout and maximize productivity while minimizing inputs. This session is suitable for all growers interested in sustainable soil management and plant biodiversity. \nWhen: 12 p.m. -1 p.m.\, Tuesday\, June 9\, 2026 \nWhere: Zoom \nRegister here.
URL:https://cefs.ncsu.edu/event/lunch-and-learn-companion-planting-and-cover-crops/
LOCATION:Virtual
CATEGORIES:CEFS,Lunch and Learns
ATTACH;FMTTYPE=image/png:https://cefs.ncsu.edu/wp-content/uploads/Lunch-and-Learn-Companion-Planting-and-Cover-Crops.png
ORGANIZER;CN="CEFS":MAILTO:cefs_info@ncsu.edu
END:VEVENT
BEGIN:VEVENT
DTSTART;TZID=America/New_York:20260610T130000
DTEND;TZID=America/New_York:20260610T140000
DTSTAMP:20260419T110624
CREATED:20260408T152730Z
LAST-MODIFIED:20260408T153020Z
UID:10000726-1781096400-1781100000@cefs.ncsu.edu
SUMMARY:Navigating Your Food Business Series: Retail Foods - Restaurants\, Food Trucks & more
DESCRIPTION:Retail Foods: Restaurants\, Food Trucks and more\nWednesday | Jun 10 | 1:00 PM — 2:15 PM\nRegister here: https://ncsu.zoom.us/meeting/register/mkR9tXDrRSyy52p4YfAckg \nJoin NC State Extension as we welcome Ellen Shumaker and the Safe Plates Team on this webinar as we investigate food safety requirements for food entrepreneurs and existing food businesses in the retail food sector. Be sure to stay and learn more about the Safe Plates Program from NC State Extension! The session will conclude with a Q&A.
URL:https://cefs.ncsu.edu/event/navigating-your-food-business-10/
LOCATION:NC
CATEGORIES:CEFS,EMFS,Seasons of Sustainable Agriculture Workshop Series,Workshops,Workshops and Educational Programs
ATTACH;FMTTYPE=image/png:https://cefs.ncsu.edu/wp-content/uploads/EMFS-series.png
ORGANIZER;CN="Laura Lauffer - North Carolina Agricultural and Technical State University & Center for Environmental Farming Systems North Carolina Growing Together Project":MAILTO:lwlauffe@ncsu.edu
END:VEVENT
BEGIN:VEVENT
DTSTART;TZID=America/New_York:20260610T180000
DTEND;TZID=America/New_York:20260610T190000
DTSTAMP:20260419T110624
CREATED:20260408T153227Z
LAST-MODIFIED:20260408T153302Z
UID:10000727-1781114400-1781118000@cefs.ncsu.edu
SUMMARY:Navigating Your Food Business Series: Retail Foods - Restaurants\, Food Trucks & more
DESCRIPTION:Retail Foods: Restaurants\, Food Trucks & more\nWednesday | Jun 10 | 6:00 PM — 7:15 PM\n\nJoin NC State Extension as we welcome Ellen Shumaker and the Safe Plates Team on this webinar as we investigate food safety requirements for food entrepreneurs and existing food businesses in the retail food sector. Be sure to stay and learn more about the Safe Plates Program from NC State Extension! The session will conclude with a Q&A.\nRegister here: https://ncsu.zoom.us/meeting/register/Z-WNPTVnRsq9Y3-AoNGSew
URL:https://cefs.ncsu.edu/event/navigating-your-food-business-11/
LOCATION:NC
CATEGORIES:CEFS,EMFS,Seasons of Sustainable Agriculture Workshop Series,Workshops,Workshops and Educational Programs
ATTACH;FMTTYPE=image/png:https://cefs.ncsu.edu/wp-content/uploads/EMFS-series.png
ORGANIZER;CN="Laura Lauffer - North Carolina Agricultural and Technical State University & Center for Environmental Farming Systems North Carolina Growing Together Project":MAILTO:lwlauffe@ncsu.edu
END:VEVENT
BEGIN:VEVENT
DTSTART;TZID=America/New_York:20260618T130000
DTEND;TZID=America/New_York:20260618T140000
DTSTAMP:20260419T110624
CREATED:20260414T172957Z
LAST-MODIFIED:20260414T172957Z
UID:10000740-1781787600-1781791200@cefs.ncsu.edu
SUMMARY:Mid-Year Farm Business Review & Reporting
DESCRIPTION:Join us as we walk through the process of evaluating farm business performance at the midpoint of the year. Participants will review financial records\, production data\, and key performance indicators to assess progress toward annual goals. This course focuses on organizing and interpreting mid-year data to identify strengths\, address challenges\, and support informed decision-making for the remainder of the season. \nThis class is taught by Jennifer Badger\, Area Specialized Agent\, Agribusiness\, NC Cooperative Extension Empowering Mountain Food Systems\, North Carolina State University \n\nOnline \nFee: No Cost
URL:https://cefs.ncsu.edu/event/mid-year-farm-business-review-reporting/
LOCATION:NC
CATEGORIES:CEFS,EMFS,Workshops and Educational Programs
ATTACH;FMTTYPE=image/png:https://cefs.ncsu.edu/wp-content/uploads/mid-yr-reporting.png
ORGANIZER;CN="Laura Lauffer - North Carolina Agricultural and Technical State University & Center for Environmental Farming Systems North Carolina Growing Together Project":MAILTO:lwlauffe@ncsu.edu
END:VEVENT
END:VCALENDAR